BEGIN:VCALENDAR
VERSION:2.0
PRODID:-//wp-events-plugin.com//7.2.3.1//EN
TZID:America/Edmonton
X-WR-TIMEZONE:America/Edmonton
BEGIN:VEVENT
UID:233@calgaryladiescurlingclub.com
DTSTART;TZID=America/Edmonton;VALUE=DATE:20250801
DTEND;TZID=America/Edmonton;VALUE=DATE:20250802
DTSTAMP:20250723T055956Z
URL:https://calgaryladiescurlingclub.com/events/team-and-spare-registratio
 n-opens/
SUMMARY:Team and Spare Registration Opens
DESCRIPTION:Team registration and fee payments will begin today and will cl
 ose August 31\, 2025.\n\nSpare registration starts August 1 and is ongoing
 \n\n&nbsp\;
CATEGORIES:Important Dates
END:VEVENT
BEGIN:VTIMEZONE
TZID:America/Edmonton
X-LIC-LOCATION:America/Edmonton
BEGIN:DAYLIGHT
DTSTART:20250309T030000
TZOFFSETFROM:-0700
TZOFFSETTO:-0600
TZNAME:MDT
END:DAYLIGHT
END:VTIMEZONE
END:VCALENDAR