BEGIN:VCALENDAR
VERSION:2.0
PRODID:-//wp-events-plugin.com//7.2.3.1//EN
TZID:America/Edmonton
X-WR-TIMEZONE:America/Edmonton
BEGIN:VEVENT
UID:236@calgaryladiescurlingclub.com
DTSTART;TZID=America/Edmonton;VALUE=DATE:20251124
DTEND;TZID=America/Edmonton;VALUE=DATE:20251127
DTSTAMP:20250723T205334Z
URL:https://calgaryladiescurlingclub.com/events/st-nicks-bonspiel/
SUMMARY:St. Nick's Bonspiel - No League Curling
DESCRIPTION:St. Nick’s Women’s Bonspiel\n\n 	Dates: November 24 – 26
 \, 2025\n 	Location: Calgary Winter Club\nEntry Fee: TBD\nAdditional Inf
 o: The Annual St. Nick’s Bonspiel is the last week in November and the 
 start of Christmas for many curlers. Cost includes curling\, cash prizes\,
  travelling prizes and a delicious Christmas Turkey luncheon.\nContact: J
 odi Paisley at (403-338-2442) or jodip@calgarywinterclub.com\n\n*** Please
  note: No league curling this week
CATEGORIES:Bonspiel
LOCATION:Calgary Winter Club\, 4611 - 14 St NW\, Calgary\, AB\, T2K 1J7\, C
 anada
GEO:51.0931833;-114.0960627
X-APPLE-STRUCTURED-LOCATION;VALUE=URI;X-ADDRESS=4611 - 14 St NW\, Calgary\,
  AB\, T2K 1J7\, Canada;X-APPLE-RADIUS=100;X-TITLE=Calgary Winter Club:geo:
 51.0931833,-114.0960627
END:VEVENT
BEGIN:VTIMEZONE
TZID:America/Edmonton
X-LIC-LOCATION:America/Edmonton
BEGIN:STANDARD
DTSTART:20251102T010000
TZOFFSETFROM:-0600
TZOFFSETTO:-0700
TZNAME:MST
END:STANDARD
END:VTIMEZONE
END:VCALENDAR