BEGIN:VCALENDAR
VERSION:2.0
PRODID:-//wp-events-plugin.com//7.2.3.1//EN
TZID:America/Edmonton
X-WR-TIMEZONE:America/Edmonton
BEGIN:VEVENT
UID:180@calgaryladiescurlingclub.com
DTSTART;TZID=America/Edmonton;VALUE=DATE:20251013
DTEND;TZID=America/Edmonton;VALUE=DATE:20251014
DTSTAMP:20250723T202648Z
URL:https://calgaryladiescurlingclub.com/events/monday-league-games-2025-1
 0-13/
SUMMARY:Thanksgiving Monday - No League Curling
DESCRIPTION:
CATEGORIES:Important Dates
END:VEVENT
BEGIN:VTIMEZONE
TZID:America/Edmonton
X-LIC-LOCATION:America/Edmonton
BEGIN:DAYLIGHT
DTSTART:20250309T030000
TZOFFSETFROM:-0700
TZOFFSETTO:-0600
TZNAME:MDT
END:DAYLIGHT
END:VTIMEZONE
END:VCALENDAR