BEGIN:VCALENDAR
VERSION:2.0
PRODID:-//wp-events-plugin.com//7.2.3.1//EN
TZID:America/Edmonton
X-WR-TIMEZONE:America/Edmonton
BEGIN:VEVENT
UID:179@calgaryladiescurlingclub.com
DTSTART;TZID=America/Edmonton:20251006T100000
DTEND;TZID=America/Edmonton:20251006T151500
DTSTAMP:20250723T212551Z
URL:https://calgaryladiescurlingclub.com/events/monday-league-games-2025-1
 0-06/
SUMMARY:Monday League Starts
DESCRIPTION:
CATEGORIES:League Play
LOCATION:Calgary Curling Club\, 720 - 3rd Street NW \, Calgary\, AB\, T2N 1
 N9 \, Canada
GEO:51.0583462;-114.06942730000003
X-APPLE-STRUCTURED-LOCATION;VALUE=URI;X-ADDRESS=720 - 3rd Street NW \, Calg
 ary\, AB\, T2N 1N9 \, Canada;X-APPLE-RADIUS=100;X-TITLE=Calgary Curling Cl
 ub:geo:51.0583462,-114.06942730000003
END:VEVENT
BEGIN:VTIMEZONE
TZID:America/Edmonton
X-LIC-LOCATION:America/Edmonton
BEGIN:DAYLIGHT
DTSTART:20250309T030000
TZOFFSETFROM:-0700
TZOFFSETTO:-0600
TZNAME:MDT
END:DAYLIGHT
END:VTIMEZONE
END:VCALENDAR