BEGIN:VCALENDAR
VERSION:2.0
PRODID:-//wp-events-plugin.com//7.2.3.1//EN
TZID:America/Edmonton
X-WR-TIMEZONE:America/Edmonton
BEGIN:VEVENT
UID:229@calgaryladiescurlingclub.com
DTSTART;TZID=America/Edmonton;VALUE=DATE:20251103
DTEND;TZID=America/Edmonton;VALUE=DATE:20251106
DTSTAMP:20250925T182335Z
URL:https://calgaryladiescurlingclub.com/events/interclub-bonspiel/
SUMMARY:Interclub Bonspiel - No League Curling
DESCRIPTION:2025 Calgary &amp\; District Women’s Interclub Bonspiel\n\n 	
 Dates: November 3 – 5\, 2025\n 	Location: Calgary Curling Club\n 	Entr
 y Fee: $290.00/Team – 26 Teams Maximum. Entry opens Monday\, September 
 29th and closes Friday\, October 24th\n 	Format: 6 End games – Guarante
 ed 5 games\n 	Draw Times: 9:30 AM\, 11:30 AM\, &amp\; 1:30 PM (All Teams 
 play on all 3 days)\n 	Prizes: Cash prizes (winners and losers paid) – 
 Each team will receive four $18.00 Food and Beverage cards\n 	Contact: Ly
 nn Royce or Zoria Rutherford – Email: calgaryladiesinterclub@gmail.com\
 n\nPlease see our Bonspiel Poster for registration information\n\n*** Pl
 ease note: No league curling this week
CATEGORIES:Bonspiel
LOCATION:Calgary Curling Club\, 720 - 3rd Street NW \, Calgary\, AB\, T2N 1
 N9 \, Canada
GEO:51.0583462;-114.06942730000003
X-APPLE-STRUCTURED-LOCATION;VALUE=URI;X-ADDRESS=720 - 3rd Street NW \, Calg
 ary\, AB\, T2N 1N9 \, Canada;X-APPLE-RADIUS=100;X-TITLE=Calgary Curling Cl
 ub:geo:51.0583462,-114.06942730000003
END:VEVENT
BEGIN:VTIMEZONE
TZID:America/Edmonton
X-LIC-LOCATION:America/Edmonton
BEGIN:STANDARD
DTSTART:20251102T010000
TZOFFSETFROM:-0600
TZOFFSETTO:-0700
TZNAME:MST
END:STANDARD
END:VTIMEZONE
END:VCALENDAR