BEGIN:VCALENDAR
VERSION:2.0
PRODID:-//wp-events-plugin.com//7.2.3.1//EN
TZID:America/Edmonton
X-WR-TIMEZONE:America/Edmonton
BEGIN:VEVENT
UID:237@calgaryladiescurlingclub.com
DTSTART;TZID=America/Edmonton;VALUE=DATE:20260216
DTEND;TZID=America/Edmonton;VALUE=DATE:20260217
DTSTAMP:20250723T203447Z
URL:https://calgaryladiescurlingclub.com/events/family-day-no-league-curli
 ng/
SUMMARY:Family Day - No League Curling
DESCRIPTION:
CATEGORIES:Important Dates
END:VEVENT
BEGIN:VTIMEZONE
TZID:America/Edmonton
X-LIC-LOCATION:America/Edmonton
BEGIN:STANDARD
DTSTART:20251102T010000
TZOFFSETFROM:-0600
TZOFFSETTO:-0700
TZNAME:MST
END:STANDARD
END:VTIMEZONE
END:VCALENDAR