BEGIN:VCALENDAR
VERSION:2.0
PRODID:-//wp-events-plugin.com//7.2.3.1//EN
TZID:America/Edmonton
X-WR-TIMEZONE:America/Edmonton
BEGIN:VEVENT
UID:232@calgaryladiescurlingclub.com
DTSTART;TZID=America/Edmonton:20251008T153000
DTEND;TZID=America/Edmonton:20251008T200000
DTSTAMP:20250925T182423Z
URL:https://calgaryladiescurlingclub.com/events/fall-banquet-agm/
SUMMARY:SAGM & Fall Banquet
DESCRIPTION:Notice of SAGM &amp\; Fall Banquet\nThe SAGM will be held on We
 dnesday\, October 8th at 4:00 PM. Click HERE to view the Notice.\n\nNumber
 s for the fall banquet must be submitted on Friday\, September 26th. If yo
 u would like to attend\, please send email to: socialdirector@calgaryladie
 scurlingclub.com as soon as possible\n\n
CATEGORIES:Special Events
LOCATION:Calgary Curling Club\, 720 - 3rd Street NW \, Calgary\, AB\, T2N 1
 N9 \, Canada
GEO:51.0583462;-114.06942730000003
X-APPLE-STRUCTURED-LOCATION;VALUE=URI;X-ADDRESS=720 - 3rd Street NW \, Calg
 ary\, AB\, T2N 1N9 \, Canada;X-APPLE-RADIUS=100;X-TITLE=Calgary Curling Cl
 ub:geo:51.0583462,-114.06942730000003
END:VEVENT
BEGIN:VTIMEZONE
TZID:America/Edmonton
X-LIC-LOCATION:America/Edmonton
BEGIN:DAYLIGHT
DTSTART:20250309T030000
TZOFFSETFROM:-0700
TZOFFSETTO:-0600
TZNAME:MDT
END:DAYLIGHT
END:VTIMEZONE
END:VCALENDAR