BEGIN:VCALENDAR
VERSION:2.0
PRODID:-//wp-events-plugin.com//7.2.3.1//EN
TZID:America/Edmonton
X-WR-TIMEZONE:America/Edmonton
BEGIN:VEVENT
UID:239@calgaryladiescurlingclub.com
DTSTART;TZID=America/Edmonton;VALUE=DATE:20251218
DTEND;TZID=America/Edmonton;VALUE=DATE:20260105
DTSTAMP:20250723T204852Z
URL:https://calgaryladiescurlingclub.com/events/christmas-break/
SUMMARY:Christmas Break
DESCRIPTION:Play will resume Monday\, January 5th and Wednesday January 7th
 .\n\n\n&nbsp\;
CATEGORIES:Important Dates
END:VEVENT
BEGIN:VTIMEZONE
TZID:America/Edmonton
X-LIC-LOCATION:America/Edmonton
BEGIN:STANDARD
DTSTART:20251102T010000
TZOFFSETFROM:-0600
TZOFFSETTO:-0700
TZNAME:MST
END:STANDARD
END:VTIMEZONE
END:VCALENDAR