BEGIN:VCALENDAR
VERSION:2.0
PRODID:-//wp-events-plugin.com//7.2.3.1//EN
TZID:America/Edmonton
X-WR-TIMEZONE:America/Edmonton
BEGIN:VEVENT
UID:235@calgaryladiescurlingclub.com
DTSTART;TZID=America/Edmonton:20260323T153000
DTEND;TZID=America/Edmonton:20260323T200000
DTSTAMP:20250723T202140Z
URL:https://calgaryladiescurlingclub.com/events/agm-spring-banquet/
SUMMARY:Championship Games\, AGM & Spring Banquet
DESCRIPTION:Monday A &amp\; B Winners will play Wednesday A &amp\; B Winner
 s to determine Club Champions. Championship Games will start at 1:00 PM\n\
 nAnnual AGM will start at approximately 3:30 PM\n\nBanquet will start arou
 nd 5:00 PM\, Dinner 6:00 PM followed by prize presentations.
CATEGORIES:Special Events
LOCATION:Calgary Curling Club\, 720 - 3rd Street NW \, Calgary\, AB\, T2N 1
 N9 \, Canada
GEO:51.0583462;-114.06942730000003
X-APPLE-STRUCTURED-LOCATION;VALUE=URI;X-ADDRESS=720 - 3rd Street NW \, Calg
 ary\, AB\, T2N 1N9 \, Canada;X-APPLE-RADIUS=100;X-TITLE=Calgary Curling Cl
 ub:geo:51.0583462,-114.06942730000003
END:VEVENT
BEGIN:VTIMEZONE
TZID:America/Edmonton
X-LIC-LOCATION:America/Edmonton
BEGIN:DAYLIGHT
DTSTART:20260308T030000
TZOFFSETFROM:-0700
TZOFFSETTO:-0600
TZNAME:MDT
END:DAYLIGHT
END:VTIMEZONE
END:VCALENDAR